199.95741622094900000
0.00000000000000000
0.00000000000000000
-200.31485224186301000
-882625.18945172592000000
2116603.61636946490000000
